BEGIN:VCALENDAR
VERSION:2.0
PRODID:-//lvoy.org//NONSGML kigkonsult.se iCalcreator 2.30.10//
CALSCALE:GREGORIAN
METHOD:PUBLISH
UID:2a3668cf-8584-4273-ac65-adc64ffde4e5
X-WR-CALDESC:Community members putting down 'new roots' in Geneva\, can com
 e talk with local agencies that assist with housing\, jobs\, education\, h
 ealthcare\, language\, legal aid\, childcare\, mental health\, emergency h
 elp and more. For more information\, visit GPLNY.org
X-WR-RELCALID:94833862a2a7d85d21f950c87508aa8c
X-WR-TIMEZONE:America/New_York
BEGIN:VTIMEZONE
TZID:America/New_York
BEGIN:STANDARD
TZNAME:EST
DTSTART:20231105T020000
TZOFFSETFROM:-0400
TZOFFSETTO:-0500
RDATE:20241103T020000
RDATE:20251102T020000
END:STANDARD
BEGIN:DAYLIGHT
TZNAME:EDT
DTSTART:20240310T020000
TZOFFSETFROM:-0500
TZOFFSETTO:-0400
RDATE:20250309T020000
RDATE:20260308T020000
END:DAYLIGHT
END:VTIMEZONE
BEGIN:VEVENT
UID:98b747dd-f12a-494c-95b2-2b0a4f9e1911
DTSTAMP:20260426T013205Z
DESCRIPTION:Community members putting down 'new roots' in Geneva\, can come
  talk with local agencies that assist with housing\, jobs\, education\, he
 althcare\, language\, legal aid\, childcare\, mental health\, emergency he
 lp and more. For more information\, visit GPLNY.org
DTSTART;TZID=America/New_York:20241017T140000
DTEND;TZID=America/New_York:20241017T183000
LOCATION:Geneva Public Library\, 244 N. Main St.\, Geneva\, NY 14456 US
SUMMARY:New Roots Community Resource Fair for Refugees & Immigrants
END:VEVENT
END:VCALENDAR
